BEGIN:VCALENDAR
VERSION:2.0
PRODID:-//GWPR Deutschland - ECPv6.3.2//NONSGML v1.0//EN
CALSCALE:GREGORIAN
METHOD:PUBLISH
X-ORIGINAL-URL:https://globalwpr.de
X-WR-CALDESC:Veranstaltungen für GWPR Deutschland
REFRESH-INTERVAL;VALUE=DURATION:PT1H
X-Robots-Tag:noindex
X-PUBLISHED-TTL:PT1H
BEGIN:VTIMEZONE
TZID:Europe/Berlin
BEGIN:DAYLIGHT
TZOFFSETFROM:+0100
TZOFFSETTO:+0200
TZNAME:CEST
DTSTART:20250330T010000
END:DAYLIGHT
BEGIN:STANDARD
TZOFFSETFROM:+0200
TZOFFSETTO:+0100
TZNAME:CET
DTSTART:20251026T010000
END:STANDARD
END:VTIMEZONE
BEGIN:VEVENT
DTSTART;TZID=Europe/Berlin:20250710T180000
DTEND;TZID=Europe/Berlin:20250710T210000
DTSTAMP:20260421T104645
CREATED:20250228T092526Z
LAST-MODIFIED:20250607T083733Z
UID:3640-1752170400-1752181200@globalwpr.de
SUMMARY:GWPR After Work: Zeit Verlag in Hamburg
DESCRIPTION:Liebe GWPR Mitglieder\, \n wir freuen uns sehr über die Einladung unseres GWPR-Mitglieds Silvie Rundel zu einem GWPR After Work im Zeit Verlag mit dem Thema:  \n „Hinter den Schlagzeilen: Wie Investigativjournalismus funktioniert“ \n Karsten Polke-Majewski\, Leiter des Ressorts Investigative Recherche und Daten bei der ZEIT\, gibt uns einen Einblick in seine Arbeit: Wie entstehen investigative Recherchen zum Beispiel zu CumEx\, Northstream oder in der rechtsextremen Szene? Welche Methoden und Werkzeuge nutzt man\, um komplexe Geschichten aufzudecken? Und wie bereitet man sich auf heikle Einsätze – etwa in Krisengebieten – journalistisch und mental vor?
URL:https://globalwpr.de/event/gwpr-after-work-zeit-cafe-in-hamburg/
LOCATION:Zeit Verlagsgruppe\, Buceriusstraße\, Eingang Speersort 1\, Hamburg\, 20095
CATEGORIES:Nur für Mitglieder
ATTACH;FMTTYPE=image/jpeg:https://globalwpr.de/wp-content/uploads/2025/02/After-Work-ZEIT-Verlagsgruppe.jpg
END:VEVENT
END:VCALENDAR