BEGIN:VCALENDAR
VERSION:2.0
PRODID:-//GWPR Deutschland - ECPv6.3.2//NONSGML v1.0//EN
CALSCALE:GREGORIAN
METHOD:PUBLISH
X-WR-CALNAME:GWPR Deutschland
X-ORIGINAL-URL:https://globalwpr.de
X-WR-CALDESC:Veranstaltungen für GWPR Deutschland
REFRESH-INTERVAL;VALUE=DURATION:PT1H
X-Robots-Tag:noindex
X-PUBLISHED-TTL:PT1H
BEGIN:VTIMEZONE
TZID:Europe/Berlin
BEGIN:DAYLIGHT
TZOFFSETFROM:+0100
TZOFFSETTO:+0200
TZNAME:CEST
DTSTART:20250330T010000
END:DAYLIGHT
BEGIN:STANDARD
TZOFFSETFROM:+0200
TZOFFSETTO:+0100
TZNAME:CET
DTSTART:20251026T010000
END:STANDARD
END:VTIMEZONE
BEGIN:VEVENT
DTSTART;TZID=Europe/Berlin:20250819T080000
DTEND;TZID=Europe/Berlin:20250819T170000
DTSTAMP:20260419T135904
CREATED:20250819T095907Z
LAST-MODIFIED:20250819T095907Z
UID:3961-1755590400-1755622800@globalwpr.de
SUMMARY:GWPR After Work bei METRO in Düsseldorf
DESCRIPTION:Wir freuen uns über die Einladung von Ivonne Bollow\, Metro zu einem After Work in Düsseldorf \nEinladung folgt
URL:https://globalwpr.de/event/gwpr-after-work-bei-metro-in-duesseldorf/
CATEGORIES:Nur für Mitglieder
END:VEVENT
END:VCALENDAR