BEGIN:VCALENDAR
VERSION:2.0
PRODID:-//GWPR Deutschland - ECPv6.3.2//NONSGML v1.0//EN
CALSCALE:GREGORIAN
METHOD:PUBLISH
X-ORIGINAL-URL:https://globalwpr.de
X-WR-CALDESC:Veranstaltungen für GWPR Deutschland
REFRESH-INTERVAL;VALUE=DURATION:PT1H
X-Robots-Tag:noindex
X-PUBLISHED-TTL:PT1H
BEGIN:VTIMEZONE
TZID:Europe/Berlin
BEGIN:DAYLIGHT
TZOFFSETFROM:+0100
TZOFFSETTO:+0200
TZNAME:CEST
DTSTART:20250330T010000
END:DAYLIGHT
BEGIN:STANDARD
TZOFFSETFROM:+0200
TZOFFSETTO:+0100
TZNAME:CET
DTSTART:20251026T010000
END:STANDARD
END:VTIMEZONE
BEGIN:VEVENT
DTSTART;TZID=Europe/Berlin:20250828T083000
DTEND;TZID=Europe/Berlin:20250828T093000
DTSTAMP:20260419T135951
CREATED:20250819T094451Z
LAST-MODIFIED:20250819T094451Z
UID:3948-1756369800-1756373400@globalwpr.de
SUMMARY:GWPR Online Meet-up: Digital Channels
DESCRIPTION:Für ad-hoc Themen sowie zur Termin- und Themenabstimmung gibt es eine gemeinsame WhatsApp-Gruppe. Wenn du dort noch nicht drin bist und gern aufgenommen werden möchtest\, schick mir einfach deine Handynummer. Keine Sorge – wir sind eine überschaubare Runde\, ein Nachrichtensturm ist also nicht zu erwarten. 😊 \nDu erhälst die Einladung\, wenn du in dem Verteiler der Gruppe bist. Ansonsten melde dich unter office@globalwpr.de
URL:https://globalwpr.de/event/gwpr-online-meet-up-digital-channels-3/
CATEGORIES:Nur für Mitglieder
ATTACH;FMTTYPE=image/jpeg:https://globalwpr.de/wp-content/uploads/2025/04/MeetUp_Social-Media.jpg
END:VEVENT
END:VCALENDAR