BEGIN:VCALENDAR
VERSION:2.0
PRODID:-//GWPR Deutschland - ECPv6.3.2//NONSGML v1.0//EN
CALSCALE:GREGORIAN
METHOD:PUBLISH
X-ORIGINAL-URL:https://globalwpr.de
X-WR-CALDESC:Veranstaltungen für GWPR Deutschland
REFRESH-INTERVAL;VALUE=DURATION:PT1H
X-Robots-Tag:noindex
X-PUBLISHED-TTL:PT1H
BEGIN:VTIMEZONE
TZID:Europe/Berlin
BEGIN:DAYLIGHT
TZOFFSETFROM:+0100
TZOFFSETTO:+0200
TZNAME:CEST
DTSTART:20250330T010000
END:DAYLIGHT
BEGIN:STANDARD
TZOFFSETFROM:+0200
TZOFFSETTO:+0100
TZNAME:CET
DTSTART:20251026T010000
END:STANDARD
END:VTIMEZONE
BEGIN:VEVENT
DTSTART;TZID=Europe/Berlin:20250902T123000
DTEND;TZID=Europe/Berlin:20250902T133000
DTSTAMP:20260421T104743
CREATED:20250207T110552Z
LAST-MODIFIED:20250207T110552Z
UID:3586-1756816200-1756819800@globalwpr.de
SUMMARY:GWPR Online Meet-up: Selbstständigkeit
DESCRIPTION:Thema: Selbstorganisation Aufgaben abgeben (Delegieren/Assistenz einstellen/virtuelle Assistenzen/Erfahrungen)\, Mental Load (Balance/ Abschalten/ Haushaltshilfe)\, Selbst und ständig“ (Zeitmanagement\, Umgang mit Stress\, Resilienz\, Burn-out Prävention); Im Chat: meine persönlichen Learnings
URL:https://globalwpr.de/event/gwpr-online-meet-up-selbststaendigkeit-2/
CATEGORIES:Nur für Mitglieder
ATTACH;FMTTYPE=image/jpeg:https://globalwpr.de/wp-content/uploads/2025/02/MeetUp_Selbststaendigkeit.jpg
END:VEVENT
END:VCALENDAR