BEGIN:VCALENDAR
VERSION:2.0
PRODID:-//GWPR Deutschland - ECPv6.3.2//NONSGML v1.0//EN
CALSCALE:GREGORIAN
METHOD:PUBLISH
X-WR-CALNAME:GWPR Deutschland
X-ORIGINAL-URL:https://globalwpr.de
X-WR-CALDESC:Veranstaltungen für GWPR Deutschland
REFRESH-INTERVAL;VALUE=DURATION:PT1H
X-Robots-Tag:noindex
X-PUBLISHED-TTL:PT1H
BEGIN:VTIMEZONE
TZID:Europe/Berlin
BEGIN:DAYLIGHT
TZOFFSETFROM:+0100
TZOFFSETTO:+0200
TZNAME:CEST
DTSTART:20250330T010000
END:DAYLIGHT
BEGIN:STANDARD
TZOFFSETFROM:+0200
TZOFFSETTO:+0100
TZNAME:CET
DTSTART:20251026T010000
END:STANDARD
END:VTIMEZONE
BEGIN:VEVENT
DTSTART;TZID=Europe/Berlin:20250604T110000
DTEND;TZID=Europe/Berlin:20250604T120000
DTSTAMP:20260421T121350
CREATED:20250410T153251Z
LAST-MODIFIED:20250523T153659Z
UID:3744-1749034800-1749038400@globalwpr.de
SUMMARY:GWPR Online global: Speeddating Session mit GWPR Chapter aus aller Welt
DESCRIPTION:Liebe Kolleginnen\, \nnach Eurem großartigen Feedback zu unserer Speed Dating-Session im Januar möchten wir dieses Format als Kick-off für einen intensivierten Austausch mit unseren Kolleginnen in den internationalen GWPR-Chaptern nutzen. \nWusstest Du schon? Unser Netzwerk zählt heute rund 520 Mitglieder in Deutschland und viele mehr weltweit. \nDieses Potenzial wollen wir künftig noch stärker für Euch zugänglich machen und mehr Gelegenheit dazu geben\, Euch mit den Kommunikatorinnen der Chapter in Australien\, Frankreich\, Ghana\, Großbritannien\, Indien\, Italien\, Mexiko\, Nahost und Nordafrika\, Rumänien\, Singapur und der Türkei zu vernetzen. \nDas Speed Dating Event macht dafür den Auftakt. In kleinen\, zufällig zusammengestellten und wechselnden Breakout-Gruppen könnt Ihr dabei internationale Mitglieder kennenlernen und vielfältige Impulse sammeln. \nSeid dabei – wir freuen uns auf Euch! \nEs gibt zwei Sessions am 4. Juni 2025:  \nSession 1 läuft von 11.00 Uhr bis 12.00 Uhr  Hier geht´s zur Anmeldung \nSession 2 läuft von 14.00 Uhr bis 15.00 Uhr Hier geht´s zur Anmeldung
URL:https://globalwpr.de/event/gwpr-online-global-speeddating-session-mit-gwpr-chapter-aus-aller-welt/
CATEGORIES:Nur für Mitglieder
ATTACH;FMTTYPE=image/jpeg:https://globalwpr.de/wp-content/uploads/2025/04/Visual.jpg
END:VEVENT
BEGIN:VEVENT
DTSTART;TZID=Europe/Berlin:20250604T173000
DTEND;TZID=Europe/Berlin:20250604T210000
DTSTAMP:20260421T121350
CREATED:20250212T135327Z
LAST-MODIFIED:20250523T153907Z
UID:3603-1749058200-1749070800@globalwpr.de
SUMMARY:GWPR After Work: Führung in der Deutschen Börse
DESCRIPTION:Liebe GWPR-Mitglieder\, \nwir freuen uns sehr über die Einladung von Ingrid Haas (Managing Director\, Group Communications & Marketing\, Deutsche Börse AG) zu einer exklusiven Führung bei der Deutschen Börse in Frankfurt. \nIn Zeiten\, in denen die Märkte von geopolitischen Spannungen\, Inflationssorgen und Zinspolitik geprägt sind\, bieten wir Euch einen direkten Einblick in das Herz des deutschen Kapitalmarkts. \nGemeinsam werfen wir einen Blick hinter die Kulissen der Deutschen Börse – einem der bedeutendsten Finanzplätze Europas – und sprechen über aktuelle Entwicklungen\, Trends und Herausforderungen\, die die Finanzwelt derzeit bewegen. \nWas Euch erwartet: \n\nGeführte Tour durch das Deutsche Börse Visitors Center\nHintergrundgespräch mit Markt- und Kommunikationsexpert:innen\nGelegenheit zum Networking bei einem anschließenden Get-together
URL:https://globalwpr.de/event/gwpr-after-work-fuehrung-in-der-deutschen-boerse/
LOCATION:Deutsche Börse AG\, Börsenplatz 4\, Frankfurt\, 60313\, Deutschland
CATEGORIES:Nur für Mitglieder
ATTACH;FMTTYPE=image/png:https://globalwpr.de/wp-content/uploads/2025/02/Boerse-FFM.png
END:VEVENT
BEGIN:VEVENT
DTSTART;TZID=Europe/Berlin:20250605T123000
DTEND;TZID=Europe/Berlin:20250605T140000
DTSTAMP:20260421T121350
CREATED:20250318T152743Z
LAST-MODIFIED:20250507T123110Z
UID:3683-1749126600-1749132000@globalwpr.de
SUMMARY:GWPR Workshop: Erfolgreiche Jobsuche
DESCRIPTION:Liebe GWPR-Mitglieder\, \nweil die Nachfrage so groß ist\, hat sich Gabi Kaminski bereit erklärt\, noch einen Workshop anzubieten. \nDie Suche nach dem richtigen Job ist oft eine Herausforderung – sei es beim nächsten Karriereschritt oder einer beruflichen Neuorientierung. \nWie gelingt es\, sich optimal zu präsentieren und die richtigen Chancen zu nutzen? Welche Strategien helfen\, sich im Wettbewerb durchzusetzen? Und wie können wir unsere Stärken am besten präsentieren? \nWir freuen uns\, Euch zu einem exklusiven Workshop mit Gabi Kaminski von GK Unternehmens- und Personalberatung einzuladen. Als erfahrene Expertin im Bereich Recruiting und Karriereberatung gibt sie wertvolle Tipps rund um die Jobsuche\, Bewerbungsprozesse und Vorstellungsgespräche. \nUm den Workshop so effektiv wir möglich zu gestalten\, bittet Gabi darum\, dass Ihr Eure Fragen vorher an uns schickt. Nutze diese Gelegenheit\, um wertvolle Impulse für deine berufliche Weiterentwicklung zu erhalten
URL:https://globalwpr.de/event/gwpr-workshop-erfolgreiche-jobsuche-2/
CATEGORIES:Nur für Mitglieder
ATTACH;FMTTYPE=image/jpeg:https://globalwpr.de/wp-content/uploads/2025/03/GWPR-Workshop_Gabi-Kaminski_Juni.jpg
END:VEVENT
BEGIN:VEVENT
DTSTART;TZID=Europe/Berlin:20250610T123000
DTEND;TZID=Europe/Berlin:20250610T133000
DTSTAMP:20260421T121350
CREATED:20250207T110351Z
LAST-MODIFIED:20250207T110351Z
UID:3582-1749558600-1749562200@globalwpr.de
SUMMARY:GWPR Online Meet-up: Selbstständige
DESCRIPTION:Thema: KI in der Selbstständigkeit (Austausch\, welche Tools nützlich sind/Umgang mit Kunden: Zeitersparnis vs. Abrechnung)
URL:https://globalwpr.de/event/gwpr-online-meet-up-selbststaendige-4/
CATEGORIES:Nur für Mitglieder
ATTACH;FMTTYPE=image/jpeg:https://globalwpr.de/wp-content/uploads/2025/02/MeetUp_Selbststaendigkeit.jpg
END:VEVENT
BEGIN:VEVENT
DTSTART;TZID=Europe/Berlin:20250612T130000
DTEND;TZID=Europe/Berlin:20250612T140000
DTSTAMP:20260421T121350
CREATED:20250410T151717Z
LAST-MODIFIED:20250607T084012Z
UID:3729-1749733200-1749736800@globalwpr.de
SUMMARY:GWPR Online Meet up: Health Communication
DESCRIPTION:Das heutige Thema ist: \nJanne gibt mit zwei Kolleginnen von FTI ein Update zu den Auswirkungen der US Politik auf die Pharma-Industrie & beleuchtet aktuelle politische Entwicklungen in Deutschland \nDen Link erhältst du wenn du in der Meet-up Gruppe bist oder unter office@globalwpr.de
URL:https://globalwpr.de/event/gwpr-online-meet-up-health-communication-8/
CATEGORIES:Nur für Mitglieder
ATTACH;FMTTYPE=image/jpeg:https://globalwpr.de/wp-content/uploads/2024/07/Meet-Up-HealthCommunication.jpg
END:VEVENT
BEGIN:VEVENT
DTSTART;TZID=Europe/Berlin:20250613T150000
DTEND;TZID=Europe/Berlin:20250613T160000
DTSTAMP:20260421T121350
CREATED:20250507T123613Z
LAST-MODIFIED:20250507T123613Z
UID:3776-1749826800-1749830400@globalwpr.de
SUMMARY:GWPR online Meet-up: International Communication
DESCRIPTION:Austausch und Diskussion zu Fachthemen in diesem Fachbereich \nDie Einladung für die Meet-up Gruppe erhaltet ihr\, wenn ihr euch für die Gruppe angemeldet habt. \nBei Interesse unter office@globalwpr.de melden
URL:https://globalwpr.de/event/gwpr-online-meet-up-international-communication/
CATEGORIES:Nur für Mitglieder
ATTACH;FMTTYPE=image/jpeg:https://globalwpr.de/wp-content/uploads/2025/05/MeetUp_International-Communication.jpg
END:VEVENT
BEGIN:VEVENT
DTSTART;TZID=Europe/Berlin:20250617T170000
DTEND;TZID=Europe/Berlin:20250617T180000
DTSTAMP:20260421T121350
CREATED:20250110T161821Z
LAST-MODIFIED:20250515T160346Z
UID:3524-1750179600-1750183200@globalwpr.de
SUMMARY:GWPR Online: KI in der Kommunikation: Hype\, Hilfe oder Risiko?
DESCRIPTION:Liebe Mitglieder und Unterstützerinnen von GWPR Deutschland e.V.\, \nwir laden Euch herzlich zu einer exklusiven Online Veranstaltung ein\, die sich einem Thema widmet\, das die Kommunikationsbranche aktuell tiefgreifend verändert. \n“KI in der Kommunikation: Hype\, Hilfe oder Risiko?” \nUnser Gast Thomas Mickeleit\, Gründer der Kommunikationsberatung “KommunikationNeuDenken!” und ehemaliger Kommunikationschef von Microsoft Deutschland kann durch seine berufliche Biografie praxisnah erklären\, wie KI sinnvoll\, verantwortungsvoll und effizient eingesetzt werden kann. Er wird von unserem Gründungsmitglied Tina Kulow\, Kommunikationsexpertin ehemals Facebook/Meta\, SAP u.a.\,  zu folgenden Fragestellungen interviewt: \nWelche konkreten Einsatzmöglichkeiten gibt es für KI in der Unternehmenskommunikation heute schon – von Textgenerierung über Monitoring bis zur Krisenkommunikation? \nSind KI-Agenten Hype oder Helfer? \nWie verändern Tools wie ChatGPT\, Midjourney oder KI-basierte Analysewerkzeuge die Rolle von Kommunikator:innen? \nWo liegen Chancen und wo auch Risiken im Umgang mit KI – z. B. in Bezug auf Transparenz\, Glaubwürdigkeit und ethische Standards? \nWas kann sogenannte predictive KI wirklich? \nWie kann sich Unternehmenskommunikation strategisch auf eine Zukunft mit (und durch) KI vorbereiten? \nDie Session bietet zudem Raum für Eure Fragen und Diskussion mit beiden Expert:innen. \nWir freuen uns auf Eure Teilnahme und eine lebhafte Diskussion!
URL:https://globalwpr.de/event/gwpr-online-ki-in-der-unternehmenskommunikation/
CATEGORIES:Öffentlich
ATTACH;FMTTYPE=image/jpeg:https://globalwpr.de/wp-content/uploads/2025/01/Einladungschart-KI-17_06_2025.jpg
END:VEVENT
BEGIN:VEVENT
DTSTART;TZID=Europe/Berlin:20250623T170000
DTEND;TZID=Europe/Berlin:20250623T180000
DTSTAMP:20260421T121350
CREATED:20250207T105609Z
LAST-MODIFIED:20250607T124632Z
UID:3571-1750698000-1750701600@globalwpr.de
SUMMARY:GWPR Online: Interne Kommunikation
DESCRIPTION:„Emotionale Mitarbeitenden-Bindung auf neuem Tiefstand – wie wird die interne Kommunikation zum Game Changer?“\nLiebe Mitglieder und Unterstützerinnen von GWPR Deutschland e.V.\, \ndie Gallup Workplace Studie 2025 lässt erneut Alarmglocken schrillen: Die emotionale Bindung von Mitarbeitenden ist auf dem Tiefstand. Eine gefährliche Entwicklung. Denn gerade jetzt müssen Unternehmen eigentlich möglichst viele Menschen in ihren Organisationen mitnehmen\, um erfolgreich Wandel zu meistern. \nGenerationenwandel\, Fachkräftemangel\, Künstliche Intelligenz (KI)\, verstärkter Aktivismus von Mitarbeitenden und eine immer komplexere wirtschaftliche\, gesellschaftliche und politische Unternehmensumgebung erfordern eine ganz neue Herangehensweise\, die eigenen Teams zu erreichen\, zu motivieren und für die Organisation zu gewinnen. \nMitarbeitende sind das wichtigste Kapital. Die interne Kommunikation muss daher neu gedacht werden und eine zentrale Rolle im Rahmen von Transformationsinitiativen\, in Executive Communications und in der Zusammenarbeit mit anderen Kommunikationsdisziplinen erhalten. \nWelche inhaltlichen Strategien versprechen Erfolg für Employee Experience und Employee Engagement und wie muss sich die interne Kommunikation selbst strukturell und fachlich weiterentwickeln? \nDiese Fragen diskutieren Julia Lutter-Müller / Vodafone\, Claudia Wagner / Wagner International Communications und Janna Schneidewindt / RWE im Gespräch mit Birgit Söllner / MSL. \nWir freuen uns auf Eure Teilnahme und eine lebhafte Diskussion!
URL:https://globalwpr.de/event/gwpr-online-beitrag-der-internen-kommunikation-in-unruhigen-zeiten/
CATEGORIES:Öffentlich
ATTACH;FMTTYPE=image/jpeg:https://globalwpr.de/wp-content/uploads/2025/02/Einladungschart-Internal-Comms-23_06_25.jpg
END:VEVENT
BEGIN:VEVENT
DTSTART;TZID=Europe/Berlin:20250625T123000
DTEND;TZID=Europe/Berlin:20250625T140000
DTSTAMP:20260421T121350
CREATED:20250410T152530Z
LAST-MODIFIED:20250410T152530Z
UID:3735-1750854600-1750860000@globalwpr.de
SUMMARY:GWPR Workshop: Mentoring - Wissen teilen und Perspektiven erweitern
DESCRIPTION:Liebe GWPR-Mitglieder\, \nMentoring ist ein wertvoller Bestandteil des GWPR-Angebots. Viele Tandems arbeiten bereits erfolgreich zusammen. In diesem Workshop stehen Wissensvermittlung\, Reflexion und Austausch zum Thema Mentoring im Mittelpunkt. \nWie gestaltet man eine Mentoring-Beziehung? Was gilt es zu beachten\, um Mentoring wirksam zu gestalten? Wie gelingen ein gutes Onboarding\, eine klare Zielsetzung und die Umsetzung der gewünschten Handlungsfelder? Welche Kompetenzen sind für Mentorinnen wichtig? Welche Herausforderungen können auftreten\, und wie sieht ein gelungener Mentoring-Prozess aus? Dieser Workshop bietet die Möglichkeit\, Antworten auf diese Fragen zu finden und den Austausch unter den Teilnehmenden zu fördern. \nWir freuen uns sehr\, Euch zu diesem Workshop mit Ute Böhringer-Mai am 25. Juni von 12.30 Uhr – 14.00 Uhr einzuladen. Ute ist seit 2013 ehrenamtlich als Mentorin tätig. Sie wird wertvolle Impulse und praxisnahe Tipps geben und freut sich sehr auf den Dialog sowie den Austausch mit Euch\, die bereits als Mentorinnen aktiv sind oder anstreben\, es zu werden. Nutzt die Gelegenheit\, von Utes Expertise und langjähriger Erfahrung zu profitieren und euch mit anderen inspirierenden Frauen aus unserem Netzwerk auszutauschen. \nEs gibt 15 Plätze – First come – first serve! \n  \n 
URL:https://globalwpr.de/event/gwpr-workshop-mentoring-wissen-teilen-und-perspektiven-erweitern/
CATEGORIES:Nur für Mitglieder
ATTACH;FMTTYPE=image/png:https://globalwpr.de/wp-content/uploads/2025/04/WS-Ute-Boehringer-Mai.png
END:VEVENT
BEGIN:VEVENT
DTSTART;TZID=Europe/Berlin:20250627T130000
DTEND;TZID=Europe/Berlin:20250627T140000
DTSTAMP:20260421T121350
CREATED:20250526T143752Z
LAST-MODIFIED:20250526T143752Z
UID:3817-1751029200-1751032800@globalwpr.de
SUMMARY:GWPR Online Meet up: Führungszirkel
DESCRIPTION:Liebe GWPR-Mitglieder\, \nhier kommt die Einladung zum Meet-up Führungszirkel\, die Themen lauten: Digitale Transformation/Change Management etc. \nBeim vergangenen Treffen haben wir besprochen\, dass wir uns gegenseitig Tipps für Podcasts oder andere interessante Informationsquellen geben wollen. Wer Ideen hat\, bringt diese gerne beim nächsten Treffen ein. \nBei Interesse unter office@globalwpr.de melden
URL:https://globalwpr.de/event/gwpr-online-meet-up-fuehrungszirkel-3/
CATEGORIES:Nur für Mitglieder
ATTACH;FMTTYPE=image/jpeg:https://globalwpr.de/wp-content/uploads/2025/05/MeetUp_Fuehrungszirkel.jpg
END:VEVENT
END:VCALENDAR